BEGIN:VCALENDAR
VERSION:2.0
PRODID:-//Knightofstmta - ECPv6.15.17.1//NONSGML v1.0//EN
CALSCALE:GREGORIAN
METHOD:PUBLISH
X-WR-CALNAME:Knightofstmta
X-ORIGINAL-URL:https://knightofstmta.com
X-WR-CALDESC:Events for Knightofstmta
REFRESH-INTERVAL;VALUE=DURATION:PT1H
X-Robots-Tag:noindex
X-PUBLISHED-TTL:PT1H
BEGIN:VTIMEZONE
TZID:America/Los_Angeles
BEGIN:DAYLIGHT
TZOFFSETFROM:-0800
TZOFFSETTO:-0700
TZNAME:PDT
DTSTART:20240310T100000
END:DAYLIGHT
BEGIN:STANDARD
TZOFFSETFROM:-0700
TZOFFSETTO:-0800
TZNAME:PST
DTSTART:20241103T090000
END:STANDARD
BEGIN:DAYLIGHT
TZOFFSETFROM:-0800
TZOFFSETTO:-0700
TZNAME:PDT
DTSTART:20250309T100000
END:DAYLIGHT
BEGIN:STANDARD
TZOFFSETFROM:-0700
TZOFFSETTO:-0800
TZNAME:PST
DTSTART:20251102T090000
END:STANDARD
BEGIN:DAYLIGHT
TZOFFSETFROM:-0800
TZOFFSETTO:-0700
TZNAME:PDT
DTSTART:20260308T100000
END:DAYLIGHT
BEGIN:STANDARD
TZOFFSETFROM:-0700
TZOFFSETTO:-0800
TZNAME:PST
DTSTART:20261101T090000
END:STANDARD
END:VTIMEZONE
BEGIN:VEVENT
DTSTART;TZID=America/Los_Angeles:20250208T170000
DTEND;TZID=America/Los_Angeles:20250208T190000
DTSTAMP:20260419T180024
CREATED:20241227T002625Z
LAST-MODIFIED:20250206T175744Z
UID:4617-1739034000-1739041200@knightofstmta.com
SUMMARY:Priest & Religious Appreciation Dinner
DESCRIPTION:At Msgr Dolen Hall\, St Gabriel Church\, 13734 Twin Peaks Road\, Poway\, 92064
URL:https://knightofstmta.com/event/appreciation/
CATEGORIES:Community
END:VEVENT
BEGIN:VEVENT
DTSTART;TZID=America/Los_Angeles:20250209T080000
DTEND;TZID=America/Los_Angeles:20250209T120000
DTSTAMP:20260419T180024
CREATED:20250206T175034Z
LAST-MODIFIED:20250208T205819Z
UID:5758-1739088000-1739102400@knightofstmta.com
SUMMARY:Snack Breakfast
DESCRIPTION:Snack Breakfast Fundraiser (on Super Bowl Sunday)\n\nFred Scholz\, Chair\nPlease volunteer – your help is appreciated\n6 AM is showtime\, for set-up\, prep\, serve\, then clean-up
URL:https://knightofstmta.com/event/snack-breakfast/
CATEGORIES:Community
END:VEVENT
BEGIN:VEVENT
DTSTART;TZID=America/Los_Angeles:20250215T163000
DTEND;TZID=America/Los_Angeles:20250215T200000
DTSTAMP:20260419T180024
CREATED:20250206T235153Z
LAST-MODIFIED:20250928T232543Z
UID:5789-1739637000-1739649600@knightofstmta.com
SUMMARY:Parish Family Luau
DESCRIPTION:Being part of the multi-ministry group at GA. \nThis fellowship event needs volunteers: in sales\, set-up\, decorations\, fundraising\, clean-up \nplease contact Grand Knight
URL:https://knightofstmta.com/event/parish-family-luau/
CATEGORIES:Community
END:VEVENT
END:VCALENDAR